BEGIN:VCALENDAR
VERSION:2.0
PRODID:-//wp-events-plugin.com//7.2.3.1//EN
TZID:Europe/Berlin
X-WR-TIMEZONE:Europe/Berlin
BEGIN:VEVENT
UID:42@infoportal.lernen.hamburg
DTSTART;TZID=Europe/Berlin;VALUE=DATE:20230921
DTEND;TZID=Europe/Berlin;VALUE=DATE:20230923
DTSTAMP:20230727T091359Z
URL:https://infoportal.lernen.hamburg/events/zweite-statuskonferenz-im-dig
 italpakt-schule-2023/
SUMMARY:Zweite Statuskonferenz im DigitalPakt Schule 2023
DESCRIPTION:\nAm 21. und 22. September findet die zweite Statuskonferenz im
  DigitalPakt Schule statt. Die Konferenz ist als hybride Veranstaltung ang
 elegt\, an der man vor Ort in Berlin sowie online teilnehmen kann. Im Mitt
 elpunkt steht die Umsetzung des DigitalPakt Schule vor Ort und die Aktivit
 äten der länderübergreifenden Vorhaben.\nWeitere Informationen zum dies
 jährigen Programm der Statuskonferenz und den Registrierungsmöglichkeite
 n sind auf der Webseite: https://dps-statuskonferenz.cdworks.de/ erhältli
 ch. 
LOCATION:https://dps-statuskonferenz.cdworks.de/
END:VEVENT
BEGIN:VTIMEZONE
TZID:Europe/Berlin
X-LIC-LOCATION:Europe/Berlin
BEGIN:DAYLIGHT
DTSTART:20230326T030000
TZOFFSETFROM:+0100
TZOFFSETTO:+0200
TZNAME:CEST
END:DAYLIGHT
END:VTIMEZONE
END:VCALENDAR