BEGIN:VCALENDAR
VERSION:2.0
PRODID:-//wp-events-plugin.com//7.2.3.1//EN
TZID:Europe/Berlin
X-WR-TIMEZONE:Europe/Berlin
BEGIN:VEVENT
UID:24@infoportal.lernen.hamburg
DTSTART;TZID=Europe/Berlin:20230328T160000
DTEND;TZID=Europe/Berlin:20230328T180000
DTSTAMP:20230320T165548Z
URL:https://infoportal.lernen.hamburg/events/zeitgemaesse-pruefungskultur-
 welche-unterstuetzung-bietet-ki/
SUMMARY:Zeitgemäße Prüfungskultur - Welche Unterstützung bietet KI?
DESCRIPTION:Eine Online-Veranstaltung der Robert Bosch Stiftung mit dieser 
 Kurzbeschreibung:\n\nDie Themen rund um KI und die neuen digitalen Technol
 ogien beschäftigen derzeit viele Lehrende – oft verbunden mit der Frage
 \, wie KI konkret dazu genutzt werden kann\, die bestehende Prüfungskultu
 r zu verändern.
CATEGORIES:Schulentwicklung,Unterricht
LOCATION:https://campus.deutsches-schulportal.de/event/251
END:VEVENT
BEGIN:VTIMEZONE
TZID:Europe/Berlin
X-LIC-LOCATION:Europe/Berlin
BEGIN:DAYLIGHT
DTSTART:20230326T030000
TZOFFSETFROM:+0100
TZOFFSETTO:+0200
TZNAME:CEST
END:DAYLIGHT
END:VTIMEZONE
END:VCALENDAR