BEGIN:VCALENDAR
VERSION:2.0
PRODID:-//wp-events-plugin.com//7.2.3.1//EN
TZID:Europe/Berlin
X-WR-TIMEZONE:Europe/Berlin
BEGIN:VEVENT
UID:101@infoportal.lernen.hamburg
DTSTART;TZID=Europe/Berlin;VALUE=DATE:20251101
DTEND;TZID=Europe/Berlin;VALUE=DATE:20260401
DTSTAMP:20260120T150234Z
URL:https://infoportal.lernen.hamburg/events/world-robot-olympiad-anmeldun
 g-saison-2026/
SUMMARY:"World Robot Olympiad" Saison 2026: Anmeldephase
DESCRIPTION:\n\n"Die WRO ist ein internationaler Roboterwettbewerb für Kin
 der und Jugendliche im Alter von 8 - 22 Jahren. Bei spannenden Wettbewerbe
 n haben Mädchen und Jungen die Möglichkeit\, auf spielerische Art und We
 ise etwas über Informatik\, Technik und Robotik zu lernen. \n\n 	Der Wet
 tbewerb hat offizielle 3 Wettbewerbskategorien mit teilweise verschieden
 en Altersklasse. In Deutschland bieten wir außerdem ein Starter-Programm 
 mit zwei Challenges (Starter/Mission und Starter/Sumo) für den Einstieg i
 n Robotik an.\n 	Die WRO ist ein Teamwettbewerb für 2er- oder 3er-Teams
 \, die von einem erwachsenen Coach betreut werden. Nur in unseren Starter-
 Challenges kann man auch alleine erste Wettbewerbsluft schnuppern.\n 	Ihr 
 meldet euch zunächst zu einem der über 55 regionalen Wettbewerbe an. Do
 rt könnt ihr euch für das Deutschlandfinale und dort für ein Europa- od
 er Weltfinale qualifizieren.\n 	In allen WRO-Wettbewerbskategorien können
  alle Robotersysteme und jede Programmierumgebung genutzt werden. Nur das
  Starter/Sumo Einstiegsprogramm pilotieren wir 2026 mit einer Plattform (M
 ATRIX-Robotern).\n\nDer Ablauf einer WRO-Saison ist jährlich wiederkehren
 d und kann in Kürze wie folgt beschrieben werden:\n\n 	Anfang November (V
 orjahr) - Ende März (Saisonjahr): Anmeldung zur WRO\n 	15. Januar eines J
 ahres: Veröffentlichung der Aufgaben zur neuen Saison\n 	Mai / Anfang Jun
 i: Regionale Wettbewerbe in vielen Teilen Deutschlands\n 	Mitte / Ende Jun
 i: Deutschlandfinale\, jährlich in einer anderen Stadt\n 	September/Oktob
 er: Europafinale\, jährlich in einem anderen Land\n 	November/Dezember: W
 eltfinale\, jährlich in einem anderen Land"\n\n(Quelle: Quelle: https://w
 ww.worldrobotolympiad.de/)\n\nAnmeldephase: Anfang November 2025 - Ende M
 ärz 2026\n\nMehr Informationen sowie den Link zur Anmeldung finden Sie au
 f https://www.worldrobotolympiad.de/world-robot-olympiad/einstieg-in-die-w
 ro\n\nAusführliche Informationen zum Wettbewerb sowie ein Infovideo erhal
 ten Sie auf der Website der WRO.\n\n(Hinweis: Externes Angebot eines priva
 ten Anbieters – Die Behörde hat durch die Nennung keinen Einfluss auf I
 nhalte und zieht daraus keine Vorteile.)\n\n
CATEGORIES:Wettbewerb
LOCATION:https://www.worldrobotolympiad.de/
END:VEVENT
BEGIN:VTIMEZONE
TZID:Europe/Berlin
X-LIC-LOCATION:Europe/Berlin
BEGIN:STANDARD
DTSTART:20251026T020000
TZOFFSETFROM:+0200
TZOFFSETTO:+0100
TZNAME:CET
END:STANDARD
BEGIN:DAYLIGHT
DTSTART:20260329T030000
TZOFFSETFROM:+0100
TZOFFSETTO:+0200
TZNAME:CEST
END:DAYLIGHT
END:VTIMEZONE
END:VCALENDAR