BEGIN:VCALENDAR
VERSION:2.0
PRODID:-//wp-events-plugin.com//7.2.3.1//EN
TZID:Europe/Berlin
X-WR-TIMEZONE:Europe/Berlin
BEGIN:VEVENT
UID:29@infoportal.lernen.hamburg
DTSTART;TZID=Europe/Berlin;VALUE=DATE:20230503
DTEND;TZID=Europe/Berlin;VALUE=DATE:20230504
DTSTAMP:20230517T131005Z
URL:https://infoportal.lernen.hamburg/events/workshops-fuer-schulklassen-z
 um-tag-der-pressefreiheit/
SUMMARY:Workshops für Schulklassen zum Tag der Pressefreiheit
DESCRIPTION:Am 3. Mai\, dem Internationalen Tag der Pressefreiheit\, lädt 
 das Medienkompetenzangebot "einfach.Medien" des NDR Schülerinnen und Sch
 üler ab der 8. Klassenstufe zu verschiedenen Workshops ein. Diese finden 
 auf dem Gelände des NDR in Hamburg\, online aus dem Landesfunkhaus Nieder
 sachsen und in Zusammenarbeit mit der Initiative "Journalismus macht Schul
 e" in der Hamburger Innenstadt statt. Die Workshops behandeln Themen wie P
 ressefreiheit in Kriegsgebieten\, den Einfluss künstlicher Intelligenz au
 f den Journalismus\, die Berichterstattung über Gewalt und die Freiheit d
 er Presse in Deutschland und anderen Ländern. Lehrkräfte können sich mi
 t ihren Schulklassen bewerben. Zudem gestaltet der NDR in Zusammenarbeit m
 it "Journalismus macht Schule" den Thementag "Clever recherchieren: Wir la
 ssen uns nicht manipulieren!" für 11. Klassen aus Hamburg. Mehr als 200 S
 chülerinnen und Schüler können vor Ort teilnehmen\, alle anderen könne
 n via Livestream dabei sein. Dabei geht es um Recherche in Krisengebieten\
 , den Einfluss sozialer Medien auf Meinungsbildung und News-Content auf Ti
 kTok. Das Landesfunkhaus Niedersachsen bietet zudem Medienkompetenz per Li
 vestream für Schulklassen ab der 8. Klasse an.
LOCATION:https://www.ndr.de/der_ndr/presse/mitteilungen/Tag-der-Pressefreih
 eit-Innovative-NDR-Workshops-fuer-Schulklassen-aus-dem-Norden,pressemeldun
 gndr23820.html
END:VEVENT
BEGIN:VTIMEZONE
TZID:Europe/Berlin
X-LIC-LOCATION:Europe/Berlin
BEGIN:DAYLIGHT
DTSTART:20230326T030000
TZOFFSETFROM:+0100
TZOFFSETTO:+0200
TZNAME:CEST
END:DAYLIGHT
END:VTIMEZONE
END:VCALENDAR