BEGIN:VCALENDAR
VERSION:2.0
PRODID:-//wp-events-plugin.com//7.2.3.1//EN
TZID:Europe/Berlin
X-WR-TIMEZONE:Europe/Berlin
BEGIN:VEVENT
UID:127@infoportal.lernen.hamburg
DTSTART;TZID=Europe/Berlin;VALUE=DATE:20260627
DTEND;TZID=Europe/Berlin;VALUE=DATE:20260628
DTSTAMP:20260120T152203Z
URL:https://infoportal.lernen.hamburg/events/wettbewerb-klick-cut-code-202
 6-im-landkreis-harburg-medienfest/
SUMMARY:Wettbewerb "Klick Cut Code 2026" im Landkreis Harburg: Medienfest
DESCRIPTION:\n"KLICK CUT CODE ist ein Kinder- und Jugendmedienfest. Das Fes
 t bietet Kindern und Jugendlichen die Möglichkeit\, ihre multimedialen Pr
 odukte und Projekte aus medienpädagogischen oder kreativen jugendmedienku
 lturellen Kontexten zu präsentieren.\n\nZiel des Festes ist es\, die medi
 enpädagogische Arbeit von pädagogischen Fachkräften sichtbar zu machen 
 und die Vernetzung von medienpädagogischer Arbeit in den Bildungsinstitut
 ionen des Landkreises Harburg zu fördern. Neben einer Ausstellung und ein
 er Preisverleihung gibt es ein Begleitprogramm mit Mitmach-Inseln\, Aktion
 sflächen und Workshops. KLICK CUT CODE findet  im Ausstellungsgebäude d
 es Freilichtmuseums am Kiekeberg statt und wird vom Arbeitskreis Jugend un
 d Medien in Kooperation mit dem Freilichtmuseum am Kiekeberg und der Spark
 asse Harburg-Buxtehude organisiert und veranstaltet.\n\n\n\n\nDas Medienfe
 st findet diese Jahr zum vierten Mal statt. Der Arbeitskreis Jugend und Me
 dien möchte hierbei zum einen die medienpädagogische Arbeit von pädagog
 ischen Fachkräften sichtbar machen und zum anderen die digitalen Arbeiten
  von Kindern und Jugendlichen angemessen würdigen. Ziel ist die Stärkung
 \, Verstetigung und Vernetzung von medienpädagogischer Arbeit in den Bild
 ungsinstitutionen des Landkreises." (Quelle: https://www.klickcutcode.de)\
 n\n\n\nAusführliche Informationen zum Wettbewerb erhalten Sie auf der Web
 site:\nhttps://www.klickcutcode.de\n\n(Hinweis: Externes Angebot eines pri
 vaten Anbieters – Die Behörde hat durch die Nennung keinen Einfluss auf
  Inhalte und zieht daraus keine Vorteile.)\n\n
CATEGORIES:Wettbewerb
LOCATION:https://www.klickcutcode.de
END:VEVENT
BEGIN:VTIMEZONE
TZID:Europe/Berlin
X-LIC-LOCATION:Europe/Berlin
BEGIN:DAYLIGHT
DTSTART:20260329T030000
TZOFFSETFROM:+0100
TZOFFSETTO:+0200
TZNAME:CEST
END:DAYLIGHT
END:VTIMEZONE
END:VCALENDAR