BEGIN:VCALENDAR
VERSION:2.0
PRODID:-//wp-events-plugin.com//7.2.3.1//EN
TZID:Europe/Berlin
X-WR-TIMEZONE:Europe/Berlin
BEGIN:VEVENT
UID:126@infoportal.lernen.hamburg
DTSTART;TZID=Europe/Berlin;VALUE=DATE:20260531
DTEND;TZID=Europe/Berlin;VALUE=DATE:20260601
DTSTAMP:20260120T151913Z
URL:https://infoportal.lernen.hamburg/events/wettbewerb-click-cut-code-lan
 dkreis-harburg-2026-einsendeschluss/
SUMMARY:Wettbewerb "Klick Cut Code 2026" im Landkreis Harburg: Einsendeschl
 uss
DESCRIPTION:\n\nKlick Cut Code 2026: jetzt Projekt einreichen!\n\n\n\n\n"Ma
 cht mit bei KLICK CUT CODE – dem kreativen Medienfest für Kinder und  
 Jugendliche im Landkreis Harburg. Reicht eure Medienprojekte ein und nehmt
  an der Preisverleihung teil. Insgesamt werden 5000 € an Preisgeldern ve
 rgeben. Besucht uns am 27.06.2026 imFreilichtmuseum am Kiekeberg und erleb
 t Aktionsflächen\, Ausstellung und Workshops.\n\nEinsendeschluss ist der 
 31.05.2026."\n\n\n\nAusführliche Informationen zum Wettbewerb erhalten Si
 e auf der Website:\nhttps://www.klickcutcode.de\n\n(Hinweis: Externes Ange
 bot eines privaten Anbieters – Die Behörde hat durch die Nennung keinen
  Einfluss auf Inhalte und zieht daraus keine Vorteile.)\n\n
CATEGORIES:Wettbewerb
LOCATION:https://www.klickcutcode.de
END:VEVENT
BEGIN:VTIMEZONE
TZID:Europe/Berlin
X-LIC-LOCATION:Europe/Berlin
BEGIN:DAYLIGHT
DTSTART:20260329T030000
TZOFFSETFROM:+0100
TZOFFSETTO:+0200
TZNAME:CEST
END:DAYLIGHT
END:VTIMEZONE
END:VCALENDAR