BEGIN:VCALENDAR
VERSION:2.0
PRODID:-//wp-events-plugin.com//7.2.3.1//EN
TZID:Europe/Berlin
X-WR-TIMEZONE:Europe/Berlin
BEGIN:VEVENT
UID:40@infoportal.lernen.hamburg
DTSTART;TZID=Europe/Berlin;VALUE=DATE:20230920
DTEND;TZID=Europe/Berlin;VALUE=DATE:20230922
DTSTAMP:20230714T113850Z
URL:https://infoportal.lernen.hamburg/events/tincon-use-the-news/
SUMMARY:TINCON #use the news
DESCRIPTION:Rund 80 junge und bekannte Sprecher:innen tauschen sich mit den
   TINCON-Besucher:innen in Talks\, Panels und Workshops aus den Bereichen
  (digitale) Medien\, Politik und Wissenschaft aus. Neben dem Programm auf 
 drei Bühnen gibt es für die TINCON-Teilnehmer:innen außerdem einen Maki
 ng Space\, ein mobiles Podcast-Studio und eine Gaming Area.\n\nWeitere Inf
 ormationen zur Anmeldung unter dem Link!
END:VEVENT
BEGIN:VTIMEZONE
TZID:Europe/Berlin
X-LIC-LOCATION:Europe/Berlin
BEGIN:DAYLIGHT
DTSTART:20230326T030000
TZOFFSETFROM:+0100
TZOFFSETTO:+0200
TZNAME:CEST
END:DAYLIGHT
END:VTIMEZONE
END:VCALENDAR