BEGIN:VCALENDAR
VERSION:2.0
PRODID:-//wp-events-plugin.com//7.2.3.1//EN
TZID:Europe/Berlin
X-WR-TIMEZONE:Europe/Berlin
BEGIN:VEVENT
UID:27@infoportal.lernen.hamburg
DTSTART;TZID=Europe/Berlin:20230502T150000
DTEND;TZID=Europe/Berlin:20230503T180000
DTSTAMP:20230329T135714Z
URL:https://infoportal.lernen.hamburg/events/tagung-raum-fuer-talent/
SUMMARY:Tagung 'Raum für Talent'
DESCRIPTION:Welchen Raum brauchen junge Menschen\, um ihre Potenziale optim
 al zu entfalten?\nDieser Frage geht der Begabungslotse für Bildung und Be
 gabung in seiner Fachtagung nach. Noch gibt es freie Plätze...\n\nHier ei
 n Auszug aus der Ankündigung des Begabungslotsen:\n\nUnser Wissen vom Ler
 nen und von den Lernenden hat sich stark verändert. Aber nicht nur die p
 ädagogischen Anforderungen haben sich gewandelt\, auch die Digitalisierun
 g trägt dazu bei\, dass Lernen neu gedacht und gestaltet sein will. Eine 
 neue Lernkultur\, in der Kinder ihre Talente entfalten können\, geht Hand
  in Hand mit neuen Lernräumen. Solche Lernräume sind auf der einen Seite
  zum Beispiel Schulen oder außerschulische Lernorte\, wo neue pädagogisc
 he und architektonische Konzepte sich verbinden. Räume für Talent sind a
 ber auch »Ermöglichungsräume«: Freiräume für neue Methoden und Forma
 te\, für Neue Medien oder vielfältige\, lebendige Kooperationen.
CATEGORIES:Schulentwicklung
LOCATION:https://www.begabungslotse.de/hybrider-lernraum/thema-raum-fuer-ta
 lent
END:VEVENT
BEGIN:VTIMEZONE
TZID:Europe/Berlin
X-LIC-LOCATION:Europe/Berlin
BEGIN:DAYLIGHT
DTSTART:20230326T030000
TZOFFSETFROM:+0100
TZOFFSETTO:+0200
TZNAME:CEST
END:DAYLIGHT
END:VTIMEZONE
END:VCALENDAR