BEGIN:VCALENDAR
VERSION:2.0
PRODID:-//wp-events-plugin.com//7.2.3.1//EN
TZID:Europe/Berlin
X-WR-TIMEZONE:Europe/Berlin
BEGIN:VEVENT
UID:37@infoportal.lernen.hamburg
DTSTART;TZID=Europe/Berlin;VALUE=DATE:20230626
DTEND;TZID=Europe/Berlin;VALUE=DATE:20230701
DTSTAMP:20230526T114512Z
URL:https://infoportal.lernen.hamburg/events/smasch-festival/
SUMMARY:SMASCH-Festival
DESCRIPTION:In Vorträgen und Workshops wird bewegt\, wie die Potentiale de
 r Digitalität und Kreativität alltagstauglich in den Schulen verankert w
 erden können.\nHybrides Festival - Teilnahme also Online oder in Präsenz
  möglich
END:VEVENT
BEGIN:VTIMEZONE
TZID:Europe/Berlin
X-LIC-LOCATION:Europe/Berlin
BEGIN:DAYLIGHT
DTSTART:20230326T030000
TZOFFSETFROM:+0100
TZOFFSETTO:+0200
TZNAME:CEST
END:DAYLIGHT
END:VTIMEZONE
END:VCALENDAR