BEGIN:VCALENDAR
VERSION:2.0
PRODID:-//wp-events-plugin.com//7.2.3.1//EN
TZID:Europe/Berlin
X-WR-TIMEZONE:Europe/Berlin
BEGIN:VEVENT
UID:99@infoportal.lernen.hamburg
DTSTART;TZID=Europe/Berlin:20251001T000000
DTEND;TZID=Europe/Berlin:20260213T000000
DTSTAMP:20251007T103851Z
URL:https://infoportal.lernen.hamburg/events/pangea-mathematik-wettbewerb-
 2025-26/
SUMMARY:19. Pangea-Mathematikwettbewerb
DESCRIPTION:"Wir möchten Ihre Schülerinnen und Schüler der Klassen 3 bis
  10 herzlich zur Teilnahme am 19. Pangea-Mathematikwettbewerb einladen. In
  diesem Schuljahr haben Sie die Möglichkeit\, den Wettbewerb entweder als
  schriftlichen Test oder online durchzuführen.\n\nDie Anmeldung zum Wettb
 ewerb kann bis zum 13.02.2026 über das Anmeldeportal unter https://anmel
 dung.pangea-wettbewerb.de erfolgen. Wir empfehlen jedoch\, Ihre Schüler:
 innen bereits bis spätestens Januar 2026 zu registrieren. Falls Ihre Schu
 le auf dem Anmeldeportal registriert ist\, erhalten Sie bis Ende 2025 Pang
 ea-Plakate und -Flyer per Post.\n\nDie Vorrunde des Wettbewerbs wird im Ze
 itraum vom 24.02. bis zum 04.03.2026 stattfinden.\n\nDie Aufgabenblätter 
 und Antwortbögen für den Papierwettbewerb sowie die Zugangsdaten für de
 n Online-Wettbewerb stehen ab dem 19.02.2026 um 13:00 Uhr in Ihrem Login-B
 ereich des Anmeldeportals zum Download zur Verfügung. Sie können diese M
 aterialien einfach herunterladen und für Ihre Schüler:innen ausdrucken."
 \n(Quelle: https://www.pangea-wettbewerb.de/event/19-pangea-mathematikwett
 bewerb-2026/)\n\nZeitraum: 1. Oktober 2025 - 1. September 2026\n\nHier g
 ibt es mehr Informationen zur Teilnahme und Anmeldung:\nhttps://www.pangea
 -wettbewerb.de/event/19-pangea-mathematikwettbewerb-2026/\n(Hinweis: Exter
 nes Angebot eines privaten Anbieters. Die Behörde hat durch die Nennung k
 einen Einfluss auf Inhalte oder andere Vorteile)
CATEGORIES:Wettbewerb
LOCATION:https://www.pangea-wettbewerb.de/event/19-pangea-mathematikwettbew
 erb-2026/
END:VEVENT
BEGIN:VTIMEZONE
TZID:Europe/Berlin
X-LIC-LOCATION:Europe/Berlin
BEGIN:DAYLIGHT
DTSTART:20250330T030000
TZOFFSETFROM:+0100
TZOFFSETTO:+0200
TZNAME:CEST
END:DAYLIGHT
BEGIN:STANDARD
DTSTART:20251026T020000
TZOFFSETFROM:+0200
TZOFFSETTO:+0100
TZNAME:CET
END:STANDARD
END:VTIMEZONE
END:VCALENDAR