BEGIN:VCALENDAR
VERSION:2.0
PRODID:-//wp-events-plugin.com//7.2.3.1//EN
TZID:Europe/Berlin
X-WR-TIMEZONE:Europe/Berlin
BEGIN:VEVENT
UID:56@infoportal.lernen.hamburg
DTSTART;TZID=Europe/Berlin;VALUE=DATE:20240306
DTEND;TZID=Europe/Berlin;VALUE=DATE:20240309
DTSTAMP:20240201T105947Z
URL:https://infoportal.lernen.hamburg/events/oercamp-24-in-hamburg/
SUMMARY:#OERcamp 24 in Hamburg
DESCRIPTION:Das #OERcamp 24 findet vom 06. bis 08.03.24 in der Medienschule
  in Hamburg statt.\n\nSeit 2012 trifft sich beim #OERcamp die deutschsprac
 hige Community rund um Open Educational Resources (OER) und digitale\, off
 ene\, zeitgemäße Bildung. Sowohl die „alten Hasen“ als auch Newbies 
 und Quereinsteiger*innen sind herzlich willkommen.\n\nZiel der vom Bundesm
 inisterium für Forschung und Bildung geförderten OERcamps ist es\, dass 
 unterschiedliche Akteur*innen voneinander und miteinander lernen und arbei
 ten. Hierbei soll bewusst über die Grenzen der Bildungsbereiche und Fäch
 er hinaus gedacht und genetworkt werden. Es ist ein Treffpunkt für Mensch
 en aus der Schule und der Hochschule\, der Erwachsenen-/Weiterbildung und 
 der beruflichen Bildung\, aus BNE\, politischer und kultureller Bildung un
 d viele weitere. Es können pädagogisch-didaktische\, rechtliche\, organi
 satorische\, technische und andere Perspektiven auf dem Themenbereich OER 
 und offene Bildung eingebracht werden.\n\nDie Anmeldung ist ab jetzt mögl
 ich. Die Teilnahme ist kostenlos.\n\nWeitere Infos zum Programm findest du
  auf der Website: https://www.oercamp.de/
ATTACH;FMTTYPE=image/jpeg:https://infoportal.lernen.hamburg/wp-content/upl
 oads/2024/02/Teaserbild-Website-OERcamp-2024_weiss-1536x689-1.png
LOCATION:Berufliche Schule für Medien und Kommunikation\, Eulenkamp 46\, H
 amburg\, Hamburg\, 22049\, Deutschland
X-APPLE-STRUCTURED-LOCATION;VALUE=URI;X-ADDRESS=Eulenkamp 46\, Hamburg\, Ha
 mburg\, 22049\, Deutschland;X-APPLE-RADIUS=100;X-TITLE=Berufliche Schule f
 ür Medien und Kommunikation:geo:0,0
END:VEVENT
BEGIN:VTIMEZONE
TZID:Europe/Berlin
X-LIC-LOCATION:Europe/Berlin
BEGIN:STANDARD
DTSTART:20231029T020000
TZOFFSETFROM:+0200
TZOFFSETTO:+0100
TZNAME:CET
END:STANDARD
END:VTIMEZONE
END:VCALENDAR