BEGIN:VCALENDAR
VERSION:2.0
PRODID:-//wp-events-plugin.com//7.2.3.1//EN
TZID:Europe/Berlin
X-WR-TIMEZONE:Europe/Berlin
BEGIN:VEVENT
UID:21@infoportal.lernen.hamburg
DTSTART;TZID=Europe/Berlin:20230323T160000
DTEND;TZID=Europe/Berlin:20230323T170000
DTSTAMP:20230224T130050Z
URL:https://infoportal.lernen.hamburg/events/not-another-chatgpt-love-song
 /
SUMMARY:Not another ChatGPT Love Song!?
DESCRIPTION:Neben dem vermeintlich disruptiven Element der KI beim Einsatz 
 im Unterricht wollen wir vor allem die Potenziale von ChatGPT im Community
  Call am 23. März 2023\, 16:00 Uhr in den Mittelpunkt unserer Diskussio
 n rücken: Welche Kompetenzen und Fähigkeiten entwickeln Schüler:innen\,
  wenn sie im Unterricht mit Tools wie ChatGPT arbeiten? Wie beeinflusst de
 r Einsatz von KI Lehr-Lern-Prozesse und Unterrichtssettings?
LOCATION:https://www.forumbd.de/veranstaltungen/not-another-chatgpt-love-so
 ng/
END:VEVENT
BEGIN:VTIMEZONE
TZID:Europe/Berlin
X-LIC-LOCATION:Europe/Berlin
BEGIN:STANDARD
DTSTART:20221030T020000
TZOFFSETFROM:+0200
TZOFFSETTO:+0100
TZNAME:CET
END:STANDARD
END:VTIMEZONE
END:VCALENDAR