BEGIN:VCALENDAR
VERSION:2.0
PRODID:-//wp-events-plugin.com//7.2.3.1//EN
TZID:Europe/Berlin
X-WR-TIMEZONE:Europe/Berlin
BEGIN:VEVENT
UID:19@infoportal.lernen.hamburg
DTSTART;TZID=Europe/Berlin;VALUE=DATE:20230523
DTEND;TZID=Europe/Berlin;VALUE=DATE:20230526
DTSTAMP:20230330T083036Z
URL:https://infoportal.lernen.hamburg/events/learntec/
SUMMARY:Learntec
DESCRIPTION:Die LEARNTEC ist Europas größte Veranstaltung für digitale 
 Bildung.\nAktuelle Lerntrends rund um Mobile Learning\, Virtual Reality\, 
 Digital Leadership und vielem mehr!
LOCATION:Messe Karlsruhe\, Festplatz 9\,  Karlsruhe\, 76 137\, Deutschland
X-APPLE-STRUCTURED-LOCATION;VALUE=URI;X-ADDRESS=Festplatz 9\,  Karlsruhe\, 
 76 137\, Deutschland;X-APPLE-RADIUS=100;X-TITLE=Messe Karlsruhe:geo:0,0
END:VEVENT
BEGIN:VTIMEZONE
TZID:Europe/Berlin
X-LIC-LOCATION:Europe/Berlin
BEGIN:DAYLIGHT
DTSTART:20230326T030000
TZOFFSETFROM:+0100
TZOFFSETTO:+0200
TZNAME:CEST
END:DAYLIGHT
END:VTIMEZONE
END:VCALENDAR