BEGIN:VCALENDAR
VERSION:2.0
PRODID:-//wp-events-plugin.com//7.2.3.1//EN
TZID:Europe/Berlin
X-WR-TIMEZONE:Europe/Berlin
BEGIN:VEVENT
UID:48@infoportal.lernen.hamburg
DTSTART;TZID=Europe/Berlin:20231124T180000
DTEND;TZID=Europe/Berlin:20231125T080000
DTSTAMP:20231010T133127Z
URL:https://infoportal.lernen.hamburg/events/lange-nacht-der-mathematik-20
 23/
SUMMARY:Lange Nacht der Mathematik 2023
DESCRIPTION:Eine Anmeldung ist für Gruppen und Schulen ab dem 1. November 
 möglich\, Anmeldeschluss ist am 24. November um 21 Uhr.\n\nWeitere Inform
 ationen sowie die Möglichkeit der Anmeldung sind unter folgendem Link zu 
 finden: https://www.mathenacht.de/
LOCATION:https://www.mathenacht.de
END:VEVENT
BEGIN:VTIMEZONE
TZID:Europe/Berlin
X-LIC-LOCATION:Europe/Berlin
BEGIN:STANDARD
DTSTART:20231029T020000
TZOFFSETFROM:+0200
TZOFFSETTO:+0100
TZNAME:CET
END:STANDARD
END:VTIMEZONE
END:VCALENDAR