BEGIN:VCALENDAR
VERSION:2.0
PRODID:-//wp-events-plugin.com//7.2.3.1//EN
TZID:Europe/Berlin
X-WR-TIMEZONE:Europe/Berlin
BEGIN:VEVENT
UID:52@infoportal.lernen.hamburg
DTSTART;TZID=Europe/Berlin:20240219T143000
DTEND;TZID=Europe/Berlin:20240219T190000
DTSTAMP:20240118T140917Z
URL:https://infoportal.lernen.hamburg/events/ki-summit-fuer-lehrkraefte-20
 24/
SUMMARY:KI Summit für Lehrkräfte 2024
DESCRIPTION:Am 19. Februar 2024 veranstaltet die Körber-Stiftung gemein
 sam mit App Camps einen KI Summit für Lehrkräfte.\n\nFreue dich auf ein
 e tolle Keynote\, praktische Workshops von Lehrkräften und außerschul
 ischen Initiativen\, ein Interview mit dem Hamburger Schulsenator Ties R
 abe und vor allem auf den regen Austausch mit 200 Lehrerinnen und Lehrer
 n.\n\nEs gibt 200 Plätze für alle interessierten Lehrkräfte\, die sich 
 im Bereich Künstlicher Intelligenz weiterbilden und neue Einblicke gewinn
 en wollen. Das Angebot ist kostenlos.\n\nZum Programm: https://appcamps.de
 /ki-summit-fuer-lehrkraefte/\n\nHinweis vom infoPortal: Diese Veranstaltun
 g ist leider mittlerweile ausgebucht.
LOCATION:Körber-Stiftung\, Kehrwieder 12\, 20457 Hamburg\, Hamburg\, Hambu
 rg\, 20457\, Deutschland
X-APPLE-STRUCTURED-LOCATION;VALUE=URI;X-ADDRESS=Kehrwieder 12\, 20457 Hambu
 rg\, Hamburg\, Hamburg\, 20457\, Deutschland;X-APPLE-RADIUS=100;X-TITLE=K
 örber-Stiftung:geo:0,0
END:VEVENT
BEGIN:VTIMEZONE
TZID:Europe/Berlin
X-LIC-LOCATION:Europe/Berlin
BEGIN:STANDARD
DTSTART:20231029T020000
TZOFFSETFROM:+0200
TZOFFSETTO:+0100
TZNAME:CET
END:STANDARD
END:VTIMEZONE
END:VCALENDAR