BEGIN:VCALENDAR
VERSION:2.0
PRODID:-//wp-events-plugin.com//7.2.3.1//EN
TZID:Europe/Berlin
X-WR-TIMEZONE:Europe/Berlin
BEGIN:VEVENT
UID:30@infoportal.lernen.hamburg
DTSTART;TZID=Europe/Berlin:20230523T140000
DTEND;TZID=Europe/Berlin:20230523T180000
DTSTAMP:20230515T103232Z
URL:https://infoportal.lernen.hamburg/events/ki-in-schule-und-gesellschaft
 /
SUMMARY:KI in Schule und Gesellschaft
DESCRIPTION:Der von der Stabsstelle Digitalisierung der Schulbehörde in Ko
 operation mit dem Artificial Intelligence Center Hamburg (ARIC) und der Jo
 achim Herz Stiftung durchgeführte Kongress ist eine gute Gelegenheit für
  Schulleitungen\, sich mit dem Thema intensiv zu beschäftigen. Die Fachta
 gung soll dabei unterstützen\, die Potenziale von KI für Schulen zu erku
 nden\, und dabei helfen\, KI pädagogisch-didaktisch in schulische Bildung
 sprozesse einzubetten. Auf dem Programm des Events stehen unter anderem ei
 ne Keynote von der Chief Business Development Officer (CBDO) der ARIC Mari
 na Tcharnetsky sowie eine Podiumsdiskussion.
LOCATION:ARIC\, Van-der-Smissen-Straße )\, Hamburg\, 22 767\, Deutschland
X-APPLE-STRUCTURED-LOCATION;VALUE=URI;X-ADDRESS=Van-der-Smissen-Straße )\,
  Hamburg\, 22 767\, Deutschland;X-APPLE-RADIUS=100;X-TITLE=ARIC:geo:0,0
END:VEVENT
BEGIN:VTIMEZONE
TZID:Europe/Berlin
X-LIC-LOCATION:Europe/Berlin
BEGIN:DAYLIGHT
DTSTART:20230326T030000
TZOFFSETFROM:+0100
TZOFFSETTO:+0200
TZNAME:CEST
END:DAYLIGHT
END:VTIMEZONE
END:VCALENDAR