BEGIN:VCALENDAR
VERSION:2.0
PRODID:-//wp-events-plugin.com//7.2.3.1//EN
TZID:Europe/Berlin
X-WR-TIMEZONE:Europe/Berlin
BEGIN:VEVENT
UID:87@infoportal.lernen.hamburg
DTSTART;TZID=Europe/Berlin;VALUE=DATE:20250701
DTEND;TZID=Europe/Berlin;VALUE=DATE:20250801
DTSTAMP:20250701T104204Z
URL:https://infoportal.lernen.hamburg/events/jugend-forscht-2025/
SUMMARY:"Jugend forscht (junior)" startet wieder
DESCRIPTION:„Jugend forscht (junior)“ startet wieder!\n\nAuch wenn der 
 Anmeldeschluss erst Ende November ist\, beginnt die neue Runde bereits im 
 Juli – und das aus gutem Grund! Jetzt ist der perfekte Zeitpunkt\, um si
 ch bei einer Online-Fortbildung über die Teilnahme am renommierten Wettbe
 werb zu informieren\, nach geeigneten Schüler:innen Ausschau zu halten un
 d vielleicht sogar schon vor den Sommerferien mit der Themensuche zu begin
 nen. Nach den Sommerferien können deine Schüler:innen direkt mit der Pro
 jektarbeit starten\, sodass sie bis Januar ihre schriftliche Arbeit abgebe
 n und im Februar ihre Ergebnisse beim Regionalwettbewerb vorstellen könne
 n.\n\nMehr Informationen zu „Jugend forscht” findest du in diesem Mona
 tstipp auf dem Infoportal!\nhttps://infoportal.lernen.hamburg/beitrag/schu
 lentwicklung/juli-tipp-jugend-forscht-junior-startet-wieder/
ATTACH;FMTTYPE=image/jpeg:https://infoportal.lernen.hamburg/wp-content/upl
 oads/2025/06/Logo-Jugend-forscht-1.png
CATEGORIES:Service
LOCATION:https://infoportal.lernen.hamburg/beitrag/schulentwicklung/juli-ti
 pp-jugend-forscht-junior-startet-wieder/
END:VEVENT
BEGIN:VTIMEZONE
TZID:Europe/Berlin
X-LIC-LOCATION:Europe/Berlin
BEGIN:DAYLIGHT
DTSTART:20250330T030000
TZOFFSETFROM:+0100
TZOFFSETTO:+0200
TZNAME:CEST
END:DAYLIGHT
END:VTIMEZONE
END:VCALENDAR