BEGIN:VCALENDAR
VERSION:2.0
PRODID:-//wp-events-plugin.com//7.2.3.1//EN
TZID:Europe/Berlin
X-WR-TIMEZONE:Europe/Berlin
BEGIN:VEVENT
UID:53@infoportal.lernen.hamburg
DTSTART;TZID=Europe/Berlin:20240215T160000
DTEND;TZID=Europe/Berlin:20240215T173000
DTSTAMP:20240125T190148Z
URL:https://infoportal.lernen.hamburg/events/informationsveranstaltung-dig
 itale-drehtuer/
SUMMARY:Informationsveranstaltung Digitale Drehtür
DESCRIPTION:Am Donnerstag\, den 15. Februar 2024\, wird noch einmal die Inf
 ormationsveranstaltung zur Digitale Drehtür angeboten (Wiederholung vom 
 13.11.2023).\nIn dieser Veranstaltung gibt es einen Input zur Digitalen Dr
 ehtür\, zum Anmeldeverfahren bei der Digitalen Drehtür und zum Auswahlve
 rfahren der Beratungsstelle besondere Begabungen (BbB) für die Hamburger 
 Enrichmentkurse. Außerdem besteht die Möglichkeit\, individuelle Fragen 
 zu stellen.\nDie Veranstaltung findet online statt und ist im TIS-Portal z
 u finden\, Nr. TIS 2426B2201.\nZur Anmeldung geht es hier:\nVeranstaltung 
 - TIS-Portal (li-hamburg.de)\n\n
ATTACH;FMTTYPE=image/jpeg:https://infoportal.lernen.hamburg/wp-content/upl
 oads/2023/08/LOGO-neue-Farben-07.png
LOCATION:https://tis.li-hamburg.de/web/guest/catalog/detail?tspi=1063795_
END:VEVENT
BEGIN:VTIMEZONE
TZID:Europe/Berlin
X-LIC-LOCATION:Europe/Berlin
BEGIN:STANDARD
DTSTART:20231029T020000
TZOFFSETFROM:+0200
TZOFFSETTO:+0100
TZNAME:CET
END:STANDARD
END:VTIMEZONE
END:VCALENDAR