BEGIN:VCALENDAR
VERSION:2.0
PRODID:-//wp-events-plugin.com//7.2.3.1//EN
TZID:Europe/Berlin
X-WR-TIMEZONE:Europe/Berlin
BEGIN:VEVENT
UID:47@infoportal.lernen.hamburg
DTSTART;TZID=Europe/Berlin;VALUE=DATE:20231106
DTEND;TZID=Europe/Berlin;VALUE=DATE:20231118
DTSTAMP:20231010T132300Z
URL:https://infoportal.lernen.hamburg/events/informatik-biber-informatik-f
 uer-alle/
SUMMARY:Informatik-Biber 2023
DESCRIPTION:Der Informatik-Biber erstreckt sich auch 2023 über zwei Wochen
 : von Montag\, den 6. November bis Freitag\, den 17. November. Schüler:in
 nen von Jahrgang 3 bis 13 können dabei sein. Doch bereits jetzt können s
 ich Schüler:innen bei einem Probelauf vorbereiten: Der Schnupper-Biber l
 ädt ab sofort zum Traineren von Aufgaben und Ablauf des Wettbewerbs ein.
LOCATION:https://bwinf.de/biber/2023/
END:VEVENT
BEGIN:VTIMEZONE
TZID:Europe/Berlin
X-LIC-LOCATION:Europe/Berlin
BEGIN:STANDARD
DTSTART:20231029T020000
TZOFFSETFROM:+0200
TZOFFSETTO:+0100
TZNAME:CET
END:STANDARD
END:VTIMEZONE
END:VCALENDAR