BEGIN:VCALENDAR
VERSION:2.0
PRODID:-//wp-events-plugin.com//7.2.3.1//EN
TZID:Europe/Berlin
X-WR-TIMEZONE:Europe/Berlin
BEGIN:VEVENT
UID:86@infoportal.lernen.hamburg
DTSTART;TZID=Europe/Berlin;VALUE=DATE:20250707
DTEND;TZID=Europe/Berlin;VALUE=DATE:20250721
DTSTAMP:20250624T143935Z
URL:https://infoportal.lernen.hamburg/events/hopp-foundation-fortbildungen
 -lehrkraefte-juli-2025/
SUMMARY:Hopp Foundation: Fortbildungen für Lehrkräfte im Juli 2025
DESCRIPTION:Hopp Foundation: Fortbildungen für Lehrkräfte im Juli 2025\n\
 nIn [...] kostenfreien Fortbildungen für Lehrerinnen und Lehrer können T
 hemen vertieft sowie neue Lehr- und Lernformate kennengelernt werden. Dazu
  [bietet die Hopp Foundation] zu Beginn jedes Quartals über 14 Tage Fortb
 ildungen in den Bereichen Informatik\, Medienbildung und neue Lernformate 
 für Lehrende an Grund- und weiterführenden Schulen an.\n\nDer Themenschw
 erpunkt im Juli: Künstliche Intelligenz in der Schule\n\nDie Teilnehmende
 n erhalten in praxisnahen und interaktiven Workshops vielfältige Anregung
 en für die Gestaltung und Organisation des Unterrichts und kommen mit Kol
 leginnen und Kollegen aus anderen Schulen in Austausch. Das Fortbildungsan
 gebot beinhaltet fachunabhängige und fachspezifische Workshops. Viele der
  Angebote sind modular aufgebaut\, sodass es sowohl Grundlagen- als auch V
 ertiefungsworkshops gibt und sich eine Kombination empfiehlt. In den Veran
 staltungen wird großer Wert auf eine praxisnahe Vermittlung gelegt\, wesw
 egen diese mehrheitlich von Lehrkräften durchgeführt werden\, die ihre U
 nterrichtserfahrungen in die Workshops einbringen.\n\nDie Termine werden c
 a. vier Wochen vor Veranstaltungsbeginn veröffentlicht und sind dann onli
 ne buchbar.\n\nMehr Informationen sowie eine Übersicht der Angebote und d
 ie Anmeldung finden Sie hier:\nhttps://www.hopp-foundation.de/lehrer/onlin
 e/ 
LOCATION:https://www.hopp-foundation.de/lehrer/online/
END:VEVENT
BEGIN:VTIMEZONE
TZID:Europe/Berlin
X-LIC-LOCATION:Europe/Berlin
BEGIN:DAYLIGHT
DTSTART:20250330T030000
TZOFFSETFROM:+0100
TZOFFSETTO:+0200
TZNAME:CEST
END:DAYLIGHT
END:VTIMEZONE
END:VCALENDAR