BEGIN:VCALENDAR
VERSION:2.0
PRODID:-//wp-events-plugin.com//7.2.3.1//EN
TZID:Europe/Berlin
X-WR-TIMEZONE:Europe/Berlin
BEGIN:VEVENT
UID:117@infoportal.lernen.hamburg
DTSTART;TZID=Europe/Berlin;VALUE=DATE:20260223
DTEND;TZID=Europe/Berlin;VALUE=DATE:20260401
DTSTAMP:20260120T142002Z
URL:https://infoportal.lernen.hamburg/events/hopp-foundation-fortbildungen
 -fuer-lehrkraefte-im-april-2026-schwerpunkt-kuenstliche-intelligenz-in-der
 -schule-anmeldung-im-maerz/
SUMMARY:Hopp Foundation: Fortbildungen für Lehrkräfte im April 2026\, Sch
 werpunkt "Künstliche Intelligenz in der Schule" - Anmeldung im März
DESCRIPTION:Hopp Foundation: Fortbildungen für Lehrkräfte\n\nIn [...] kos
 tenfreien Fortbildungen für Lehrerinnen und Lehrer können Themen vertief
 t sowie neue Lehr- und Lernformate kennengelernt werden. Dazu [bietet die 
 Hopp Foundation] zu Beginn jedes Quartals über 14 Tage Fortbildungen in d
 en Bereichen Informatik\, Medienbildung und neue Lernformate für Lehrende
  an Grund- und weiterführenden Schulen an.\n\nDer Themenschwerpunkt: Kün
 stliche Intelligenz in der Schule\n\nDie Teilnehmenden erhalten in praxisn
 ahen und interaktiven Workshops vielfältige Anregungen für die Gestaltun
 g und Organisation des Unterrichts und kommen mit Kolleginnen und Kollegen
  aus anderen Schulen in Austausch. Das Fortbildungsangebot beinhaltet fach
 unabhängige und fachspezifische Workshops. Viele der Angebote sind modula
 r aufgebaut\, sodass es sowohl Grundlagen- als auch Vertiefungsworkshops g
 ibt und sich eine Kombination empfiehlt. In den Veranstaltungen wird groß
 er Wert auf eine praxisnahe Vermittlung gelegt\, weswegen diese mehrheitli
 ch von Lehrkräften durchgeführt werden\, die ihre Unterrichtserfahrungen
  in die Workshops einbringen.\n\nDie Termine werden ca. vier Wochen vor Ve
 ranstaltungsbeginn veröffentlicht und sind dann online buchbar.\n\nBeginn
  der Anmeldung:\nEnde Februar/Anfang März 2026\n\nTermine der Fortbildung
 en:\nErste und zweite Aprilwoche 2026\n\nMehr Informationen sowie eine Üb
 ersicht der Angebote und die Anmeldung finden Sie hier:\nhttps://www.hopp-
 foundation.de/lehrer/online/ \n\n(Hinweis: Externes Angebot eines private
 n Anbieters – Die Behörde hat durch die Nennung keinen Einfluss auf Inh
 alte und zieht daraus keine Vorteile.)
CATEGORIES:Fortbildung
LOCATION:https://www.hopp-foundation.de/lehrer/online/
END:VEVENT
BEGIN:VTIMEZONE
TZID:Europe/Berlin
X-LIC-LOCATION:Europe/Berlin
BEGIN:STANDARD
DTSTART:20251026T020000
TZOFFSETFROM:+0200
TZOFFSETTO:+0100
TZNAME:CET
END:STANDARD
BEGIN:DAYLIGHT
DTSTART:20260329T030000
TZOFFSETFROM:+0100
TZOFFSETTO:+0200
TZNAME:CEST
END:DAYLIGHT
END:VTIMEZONE
END:VCALENDAR