BEGIN:VCALENDAR
VERSION:2.0
PRODID:-//wp-events-plugin.com//7.2.3.1//EN
TZID:Europe/Berlin
X-WR-TIMEZONE:Europe/Berlin
BEGIN:VEVENT
UID:26@infoportal.lernen.hamburg
DTSTART;TZID=Europe/Berlin:20230428T083000
DTEND;TZID=Europe/Berlin:20230428T141500
DTSTAMP:20230322T085454Z
URL:https://infoportal.lernen.hamburg/events/fachtag-individuelle-foerderu
 ng-mit-digitalen-medien/
SUMMARY:FACHTAG INDIVIDUELLE FÖRDERUNG MIT DIGITALEN MEDIEN
DESCRIPTION:Zum Fachtag "INDIVIDUELLE FÖRDERUNG MIT DIGITALEN MEDIEN" werd
 en besonders didaktische Leitungen oder Förderkoordinator:innen eingelade
 n\, da insbesondere die Verantwortlichen für die schulischen Förderstruk
 turen angesprochen werden sollen.\n\nProgrammheft_Fachtag Individuelle Fö
 rderung mit digitalen Medien
END:VEVENT
BEGIN:VTIMEZONE
TZID:Europe/Berlin
X-LIC-LOCATION:Europe/Berlin
BEGIN:DAYLIGHT
DTSTART:20230326T030000
TZOFFSETFROM:+0100
TZOFFSETTO:+0200
TZNAME:CEST
END:DAYLIGHT
END:VTIMEZONE
END:VCALENDAR