BEGIN:VCALENDAR
VERSION:2.0
PRODID:-//wp-events-plugin.com//7.2.3.1//EN
TZID:Europe/Berlin
X-WR-TIMEZONE:Europe/Berlin
BEGIN:VEVENT
UID:118@infoportal.lernen.hamburg
DTSTART;TZID=Europe/Berlin:20260418T000000
DTEND;TZID=Europe/Berlin:20260418T235900
DTSTAMP:20260120T143605Z
URL:https://infoportal.lernen.hamburg/events/edunautika-hamburg-2026/
SUMMARY:Edunautika 2026
DESCRIPTION:\n\nWas ist die edunautika?\n\n\n\n\n\n"Die edunautika ist ein 
 Barcamp zu zeitgemäßer Pädagogik und Reformschule im digitalen Wandel. 
 Hier tauschen sich Menschen aus\, die nicht bloß Unterricht mit digitalen
  Medien „stützen“ oder „optimieren“ wollen.\n\nEs geht um Lernen 
 mit und über und trotz und in digitalen Medien. Für uns heißt das: Lern
 en mit Projekten und Produkten\, kreativ und systematisch\, kollaborativ u
 nd individuell\, selbstbestimmt und unterstützt\, mit echten Aufgaben und
  im echten Leben\, inklusiv und gerecht\, für Wissen und Skills\, Persön
 lichkeit und Meta-Lernen\, in guter Gesellschaft und für eine bessere Wel
 t. Nichts davon ist komplett neu. Aber alles davon können und müssen wir
  in der digitalen Transformation neu verhandeln und gestalten. Dabei lerne
 n wir: durch Erproben\, Erfinden\, Scheitern und bei der edunautika vor al
 lem durch Austausch.\n\nDie edunautika ist ausdrücklich nicht nur offen f
 ür Menschen rund um Schule\, sondern auch für Menschen aus Hochschule\, 
 Weiterbildung\, außerschulischer Bildungsarbeit\, politischer und kulture
 ller Bildung und allen anderen Bereichen." (Quelle: https://edunautika.de)
 \n\n\nAusführliche Informationen erhalten Sie auf der Website:\nhttps://e
 dunautika.de \n\n(Hinweis: Externes Angebot eines privaten Anbieters – 
 Die Behörde hat durch die Nennung keinen Einfluss auf Inhalte und zieht d
 araus keine Vorteile.)\n\n
CATEGORIES:Schulentwicklung
END:VEVENT
BEGIN:VTIMEZONE
TZID:Europe/Berlin
X-LIC-LOCATION:Europe/Berlin
BEGIN:DAYLIGHT
DTSTART:20260329T030000
TZOFFSETFROM:+0100
TZOFFSETTO:+0200
TZNAME:CEST
END:DAYLIGHT
END:VTIMEZONE
END:VCALENDAR