BEGIN:VCALENDAR
VERSION:2.0
PRODID:-//wp-events-plugin.com//7.2.3.1//EN
TZID:Europe/Berlin
X-WR-TIMEZONE:Europe/Berlin
BEGIN:VEVENT
UID:18@infoportal.lernen.hamburg
DTSTART;TZID=Europe/Berlin:20230328T180000
DTEND;TZID=Europe/Berlin:20230328T200000
DTSTAMP:20230301T100835Z
URL:https://infoportal.lernen.hamburg/events/dms-meetup/
SUMMARY:DMS MeetUp #1 - Thema: Medienbildungkonzepte
DESCRIPTION:Diese Veranstaltungsreihe stellt jeweils ein Thema der digitale
 n Schulentwicklung in den Mittelpunkt und beginnt mit einem entsprechenden
  Kurzbericht aus einer Schule. Dieser Bericht wird von Kolleg:innen gestal
 tet\, die bereits Erfahrungen in diesem Themenfeld gesammelt haben.\n\nDer
  erste Termin dreht sich um das Thema "Medienbildungskonzepte". Ziel ist e
 s\, dass sich die Teilnehmer:innen über ihre eigenen Erfahrungen an den S
 chulen austauschen.\n\nUm einen authentischen Kontext zu gewährleisten un
 d Einblicke in die praktische Arbeit an unterschiedlichen Schulen zu ermö
 glichen\, finden die Veranstaltungen an den Schulen der jeweiligen Gastgeb
 er:innen statt. Eine Teilnahme per Videokonferenz ist ebenfalls möglich.\
 n\nBei Interesse melden Sie sich bitte unter digitalmachtschule@bsb.hambur
 g.de an. Wir senden Ihnen dann weitere Informationen zur Teilnahme zu.
LOCATION:Schule Grützmühlenweg\, Grützmühlenweg 38\, 22 339 Hamburg\, D
 eutschland
X-APPLE-STRUCTURED-LOCATION;VALUE=URI;X-ADDRESS=Grützmühlenweg 38\, 22 33
 9 Hamburg\, Deutschland;X-APPLE-RADIUS=100;X-TITLE=Schule Grützmühlenweg
 :geo:0,0
END:VEVENT
BEGIN:VTIMEZONE
TZID:Europe/Berlin
X-LIC-LOCATION:Europe/Berlin
BEGIN:DAYLIGHT
DTSTART:20230326T030000
TZOFFSETFROM:+0100
TZOFFSETTO:+0200
TZNAME:CEST
END:DAYLIGHT
END:VTIMEZONE
END:VCALENDAR