BEGIN:VCALENDAR
VERSION:2.0
PRODID:-//wp-events-plugin.com//7.2.3.1//EN
TZID:Europe/Berlin
X-WR-TIMEZONE:Europe/Berlin
BEGIN:VEVENT
UID:44@infoportal.lernen.hamburg
DTSTART;TZID=Europe/Berlin:20231005T180000
DTEND;TZID=Europe/Berlin:20231005T200000
DTSTAMP:20230919T080829Z
URL:https://infoportal.lernen.hamburg/events/dms-meetup-2-thema-medienbild
 ungkonzepte/
SUMMARY:DMS MeetUp #2 - Thema: Wie nehme ich die Kolleg:innen mit? Beteilig
 ung und Akzeptanzmanagement in der digitalen Schulentwicklung
DESCRIPTION:Was erwartet Sie? \n \nDie Gastgeberin Stefanie Kalk von der 
 Geest lädt an ihre Schule ein. Sie wird uns als Fallbeispiel den digital
 en Entwicklungsprozess ihrer Schule beschreiben und erklären\, wie das K
 ollegium auf diesem Weg von Anfang an mitgenommen und beteiligt wurde.  
 \nAn diesem Teil der Veranstaltung sowie der anschließenden Fragerunde 
 ist eine Online-Teilnahme möglich (ca. 30-40 Minuten). \nNach dem Vortra
 g können Interessierte an einer Führung durch die Schule teilnehmen\, um
  sich die Umsetzung der medienpädagogischen Überlegungen vor Ort anzusch
 auen. Anschließend haben die Anwesenden Gelegenheit\, Fragen zu stellen\
 , sich in Themengruppen auszutauschen\, voneinander zu lernen\, Materialie
 n zu tauschen und Vorhaben zu fassen. \nDer Input kommt aus dem Bereich d
 er Grundschule\, die abgesprochenen Themen sind auch an weiterführende S
 chulen adressiert.\n\nMelden Sie sich bitte hier an:\n https://app.edkimo
 .com/feedback/bokgetjuj\nAnmeldefrist bis Freitag\,  29.09.2023\n\nGenaue
 re Informationen zur Anfahrt und zu den Räumen erhalten die angemeldeten
  Teilnehmer:innen in der Woche vor der Veranstaltung per E-Mail. \n \n
 Wir freuen uns auf Sie! \nOle Koch und Florian Reche \nVD17 (Stabsstelle 
 Digitalisierung)\nstabsstelle-digitalisierung@bsb.hamburg.de
END:VEVENT
BEGIN:VTIMEZONE
TZID:Europe/Berlin
X-LIC-LOCATION:Europe/Berlin
BEGIN:DAYLIGHT
DTSTART:20230326T030000
TZOFFSETFROM:+0100
TZOFFSETTO:+0200
TZNAME:CEST
END:DAYLIGHT
END:VTIMEZONE
END:VCALENDAR