BEGIN:VCALENDAR
VERSION:2.0
PRODID:-//wp-events-plugin.com//7.2.3.1//EN
TZID:Europe/Berlin
X-WR-TIMEZONE:Europe/Berlin
BEGIN:VEVENT
UID:54@infoportal.lernen.hamburg
DTSTART;TZID=Europe/Berlin:20240408T160000
DTEND;TZID=Europe/Berlin:20240408T170000
DTSTAMP:20240125T190444Z
URL:https://infoportal.lernen.hamburg/events/digitale-drehtuer-austausch-z
 ur-aktuellen-enrichment-ausschreibung/
SUMMARY:Digitale Drehtür – Austausch zur aktuellen Enrichment-Ausschreib
 ung
DESCRIPTION:Am Montag\, den 08. April 2024\, findet die Veranstaltung Digit
 ale Drehtür – Austausch zur aktuellen Enrichment-Ausschreibung (Kreativ
 es Schreiben\, Geisteswissenschaften und Medien/ Kunst) statt. In dieser A
 ustauschstunde wird es keinen Input zum Thema geben\, sondern es können F
 ragen zur aktuellen Enrichment-Ausschreibung (Bewerbungszeitraum 02.-23. A
 pril 2024)\, zu Problemen beim Registrierungsverfahren bei der Digitalen D
 rehtür etc. gestellt werden.\nDie Veranstaltung findet online statt und i
 st im TIS-Portal zu finden\, Nr. TIS 2426B2202.\nZur Anmeldung geht es hie
 r:\nVeranstaltung - TIS-Portal (li-hamburg.de)\n
ATTACH;FMTTYPE=image/jpeg:https://infoportal.lernen.hamburg/wp-content/upl
 oads/2023/08/LOGO-neue-Farben-07.png
LOCATION:https://tis.li-hamburg.de/web/guest/catalog/detail?tspi=1063796_
END:VEVENT
BEGIN:VTIMEZONE
TZID:Europe/Berlin
X-LIC-LOCATION:Europe/Berlin
BEGIN:DAYLIGHT
DTSTART:20240331T030000
TZOFFSETFROM:+0100
TZOFFSETTO:+0200
TZNAME:CEST
END:DAYLIGHT
END:VTIMEZONE
END:VCALENDAR