BEGIN:VCALENDAR
VERSION:2.0
PRODID:-//wp-events-plugin.com//7.2.3.1//EN
TZID:Europe/Berlin
X-WR-TIMEZONE:Europe/Berlin
BEGIN:VEVENT
UID:20@infoportal.lernen.hamburg
DTSTART;TZID=Europe/Berlin;VALUE=DATE:20230307
DTEND;TZID=Europe/Berlin;VALUE=DATE:20230312
DTSTAMP:20230224T122738Z
URL:https://infoportal.lernen.hamburg/events/didacta-2023/
SUMMARY:Didacta 2023
DESCRIPTION:Schulen müssen kontinuierlich an innovativen und zukunftsfäh
 igen Bildungsangeboten arbeiten. Die didacta bietet ein Programm\, das sic
 h stets an den neuesten Entwicklungen und Herausforderungen der schulische
 n Bildung sowie der Hochschulbildung orientiert.\nDigitales Lehren und Ler
 nen beispielsweise steht im Fokus vieler Seminare\, Vorträge und Workshop
 s der didacta.
LOCATION:Landesmesse Stuttgart\, Messepiazza 1\, 70 629 Stuttgart \, Deutsc
 hland
X-APPLE-STRUCTURED-LOCATION;VALUE=URI;X-ADDRESS=Messepiazza 1\, 70 629 Stut
 tgart \, Deutschland;X-APPLE-RADIUS=100;X-TITLE=Landesmesse Stuttgart:geo:
 0,0
END:VEVENT
BEGIN:VTIMEZONE
TZID:Europe/Berlin
X-LIC-LOCATION:Europe/Berlin
BEGIN:STANDARD
DTSTART:20221030T020000
TZOFFSETFROM:+0200
TZOFFSETTO:+0100
TZNAME:CET
END:STANDARD
END:VTIMEZONE
END:VCALENDAR