BEGIN:VCALENDAR
VERSION:2.0
PRODID:-//wp-events-plugin.com//7.2.3.1//EN
TZID:Europe/Berlin
X-WR-TIMEZONE:Europe/Berlin
BEGIN:VEVENT
UID:39@infoportal.lernen.hamburg
DTSTART;TZID=Europe/Berlin;VALUE=DATE:20231123
DTEND;TZID=Europe/Berlin;VALUE=DATE:20231126
DTSTAMP:20230616T110920Z
URL:https://infoportal.lernen.hamburg/events/deutscher-schulleitungskongre
 ss/
SUMMARY:Deutscher Schulleitungskongress
DESCRIPTION:Beim Deutschen Schulleitungskongress vom 23. – 25. November 2
 023 erwartet Sie ein Premium-Kongressprogramm mit renommierten Top-Speaker
 n in  zukunftsweisenden Vorträgen\, Workshops\, Praxisforen und Diskussi
 onsrunden zu aktuellen Themen.
END:VEVENT
BEGIN:VTIMEZONE
TZID:Europe/Berlin
X-LIC-LOCATION:Europe/Berlin
BEGIN:STANDARD
DTSTART:20231029T020000
TZOFFSETFROM:+0200
TZOFFSETTO:+0100
TZNAME:CET
END:STANDARD
END:VTIMEZONE
END:VCALENDAR