BEGIN:VCALENDAR
VERSION:2.0
PRODID:-//wp-events-plugin.com//7.2.3.1//EN
TZID:Europe/Berlin
X-WR-TIMEZONE:Europe/Berlin
BEGIN:VEVENT
UID:34@infoportal.lernen.hamburg
DTSTART;TZID=Europe/Berlin:20230612T163000
DTEND;TZID=Europe/Berlin:20230612T180000
DTSTAMP:20230530T115712Z
URL:https://infoportal.lernen.hamburg/events/deeper-learning-gestalten-inn
 ovative-praxis-an-der-eigenen-schule-umsetzen-4/
SUMMARY:Deeper Learning gestalten: innovative Praxis an der eigenen Schule 
 umsetzen
DESCRIPTION:Online Workshops mit vier aufeinander abgestimmten Terminen der
  Robert Bosch Stiftung mit dieser Kurzbeschreibung:\n\nDeeper Learning ste
 ht international für eine innovative Pädagogik\, die Lernende dabei unte
 rstützt ihr Lernen aktiv zu gestalten. Es geht um ein ko-kreatives\, mög
 lichst selbstorganisiertes Lernen mit Tiefgang. Sie möchten mit Ihren Kol
 leginnen und Kollegen Deeper Learning ausprobieren und ein Deeper Learning
 -Unterrichtsvorhaben umsetzen? Wir freuen uns darauf\, Sie dabei zu unters
 tützen! In vier aufeinander aufbauenden Modulen begleiten wir Sie in der 
 Vorbereitung Ihrer Unterrichtseinheit.\n\n&nbsp\;\n\nACHTUNG: ANMELDESCHLU
 SS IST DER 20. APRIL
CATEGORIES:Schulentwicklung,Unterricht
LOCATION:https://campus.deutsches-schulportal.de/event/deeper-learning-gest
 alten-innovative-praxis-an-der-eigenen-schule-umsetzen-241
END:VEVENT
BEGIN:VTIMEZONE
TZID:Europe/Berlin
X-LIC-LOCATION:Europe/Berlin
BEGIN:DAYLIGHT
DTSTART:20230326T030000
TZOFFSETFROM:+0100
TZOFFSETTO:+0200
TZNAME:CEST
END:DAYLIGHT
END:VTIMEZONE
END:VCALENDAR