BEGIN:VCALENDAR
VERSION:2.0
PRODID:-//wp-events-plugin.com//7.2.3.1//EN
TZID:Europe/Berlin
X-WR-TIMEZONE:Europe/Berlin
BEGIN:VEVENT
UID:23@infoportal.lernen.hamburg
DTSTART;TZID=Europe/Berlin:20230323T163000
DTEND;TZID=Europe/Berlin:20230323T180000
DTSTAMP:20230320T164927Z
URL:https://infoportal.lernen.hamburg/events/deeper-learning-entdecken-inn
 ovative-praxis-kennenlernen/
SUMMARY:Deeper Learning entdecken: Innovative Praxis kennenlernen
DESCRIPTION:Eine Online-Veranstaltung der Robert-Bosch-Stiftung mit dieser 
 Kurzbeschreibung:\n\n"Deeper Learning": Was heißt das eigentlich konkret?
  Und wie geht das in der Praxis? Anne Sliwka\, Professorin für Schulpäda
 gogik an der Universität Heidelberg\, und ihr Team stellen gemeinsam mit 
 einer Netzwerkschule das Konzept "Deeper Learning" vor und zeigen anhand v
 on Praxisbeispielen\, wie eine gelingende Deeper-Learning-Einheit aufgebau
 t ist\, welchen Gewinn Schülerinnen und Schüler daraus ziehen können un
 d wie sich die Rolle von Lehrkräften dabei verändert.
LOCATION:https://campus.deutsches-schulportal.de/event/240
END:VEVENT
BEGIN:VTIMEZONE
TZID:Europe/Berlin
X-LIC-LOCATION:Europe/Berlin
BEGIN:STANDARD
DTSTART:20221030T020000
TZOFFSETFROM:+0200
TZOFFSETTO:+0100
TZNAME:CET
END:STANDARD
END:VTIMEZONE
END:VCALENDAR