BEGIN:VCALENDAR
VERSION:2.0
PRODID:-//wp-events-plugin.com//7.2.3.1//EN
TZID:Europe/Berlin
X-WR-TIMEZONE:Europe/Berlin
BEGIN:VEVENT
UID:43@infoportal.lernen.hamburg
DTSTART;TZID=Europe/Berlin;VALUE=DATE:20231007
DTEND;TZID=Europe/Berlin;VALUE=DATE:20231023
DTSTAMP:20230907T110216Z
URL:https://infoportal.lernen.hamburg/events/code-week-hamburg/
SUMMARY:Code Week Hamburg
DESCRIPTION:\n\n\n\nProgrammieren\, Tüfteln\, gemeinsam kreativ mit Techn
 ik werden – bei der Code Week entdecken Kinder und Jugendliche\, was sie
  alles mit digitalen Kompetenzen selbst bewegen können. Im letzten Jahr 
 fanden über 200 Aktivitäten überall in Hamburg statt. Sie und Ihre S
 chülerinnen und Schüler sind dieses Jahr wieder herzlich zum Mitmachen
  eingeladen! Programmier- oder Technikkenntnisse sind dabei keine Vorausse
 tzung. Sie wollen eigene Aktivitäten Ihrer Schule zum Programm beisteuer
 n oder auf die weiteren Angebote der stadtweiten Aktionswochen aufmerksam 
 machen? Alle Infos dafür finden Sie auf unserer Website: https://hamburg
 .codeweek.de/informationen-fuer-schulen\nGut zu wissen: Auch Unterrichtsei
 nheiten\, AGs oder weitere Angebote\, die Sie ohnehin planen\, nehmen wir 
 sehr gerne ins Programm der Code Week auf. So können Sie sich mit andere
 n Lehrkräften vernetzen und Ihre Aktivitäten erfahren mehr Aufmerksamk
 eit über Ihre Schule hinaus.\n\nDas aktuelle Programm zur Code Week find
 en Sie hier (Sie können aber weiterhin jederzeit dort etwas anmelden): ht
 tps://hamburg.codeweek.de/programm\n\n\n\n
LOCATION:https://hamburg.codeweek.de/informationen-fuer-schulen
END:VEVENT
BEGIN:VTIMEZONE
TZID:Europe/Berlin
X-LIC-LOCATION:Europe/Berlin
BEGIN:DAYLIGHT
DTSTART:20230326T030000
TZOFFSETFROM:+0100
TZOFFSETTO:+0200
TZNAME:CEST
END:DAYLIGHT
END:VTIMEZONE
END:VCALENDAR