BEGIN:VCALENDAR
VERSION:2.0
PRODID:-//wp-events-plugin.com//7.2.3.1//EN
TZID:Europe/Berlin
X-WR-TIMEZONE:Europe/Berlin
BEGIN:VEVENT
UID:36@infoportal.lernen.hamburg
DTSTART;TZID=Europe/Berlin;VALUE=DATE:20230618
DTEND;TZID=Europe/Berlin;VALUE=DATE:20230619
DTSTAMP:20230525T103225Z
URL:https://infoportal.lernen.hamburg/events/bundeswettbewerb-kuenstliche-
 intelligenz-2023/
SUMMARY:Bundeswettbewerb Künstliche Intelligenz 2023
DESCRIPTION:Der Anmeldeschluss zum diesjährigen Bundeswettbewerb KI 2023 i
 st bis zum 18. Juni 2023 verlängert. Alle Informationen im Link.
END:VEVENT
BEGIN:VTIMEZONE
TZID:Europe/Berlin
X-LIC-LOCATION:Europe/Berlin
BEGIN:DAYLIGHT
DTSTART:20230326T030000
TZOFFSETFROM:+0100
TZOFFSETTO:+0200
TZNAME:CEST
END:DAYLIGHT
END:VTIMEZONE
END:VCALENDAR