BEGIN:VCALENDAR
VERSION:2.0
PRODID:-//wp-events-plugin.com//7.2.3.1//EN
TZID:Europe/Berlin
X-WR-TIMEZONE:Europe/Berlin
BEGIN:VEVENT
UID:116@infoportal.lernen.hamburg
DTSTART;TZID=Europe/Berlin;VALUE=DATE:20260423
DTEND;TZID=Europe/Berlin;VALUE=DATE:20260424
DTSTAMP:20260120T141114Z
URL:https://infoportal.lernen.hamburg/events/bne-wettbewerb-zeit-leo-weltr
 etter-mission-2025-26-fuer-klasse-1-6-preisverleihung/
SUMMARY:BNE-Wettbewerb: ZEIT Leo "Weltretter-Mission" 2025-26 für Klasse 1
 -6 - Preisverleihung
DESCRIPTION:\n\n"Tu was Gutes\, mit deinen Freunden!"\n\n"Seit September 20
 13 ruft das Kindermagazin ZEIT LEO jährlich zur ZEIT LEO Weltretter-Missi
 on auf. Die bundesweit ausgeschriebene Mission richtet sich an Schülerinn
 en und Schüler der Klassen eins bis sechs\, AGs oder Gruppen aus der Nach
 mittagsbetreuung\, die mit einem Projekt aus dem Bereich „Bildung für n
 achhaltige Entwicklung“ (BNE) die Welt verbessern wollen.\n\nDie Weltret
 ter-Mission soll Kinder dazu ermutigen\, ihre Umgebung genauer unter die L
 upe zu nehmen und sich mit ihrem Umfeld auseinanderzusetzen. Durch die Tei
 lnahme an der Mission werden die jungen Menschen zwischen sechs und zwölf
  Jahren auf spielerische Weise aktiviert\, Herausforderungen im Themenspek
 trum BNE zu erkennen und für diese eigene Lösungen zu entwickeln.\n\nDaf
 ür bilden Kinder kleine Banden mit 4-5 Kindern und finden Lösungen für 
 eine selbst ausgewählte Problemstellung aus ihrem Umfeld. Die besten Proj
 ekte und Ideen werden von einer Jury ausgewählt und bei der digitalen Pre
 isverleihung ausgezeichnet. Es kann aber auch die ganze Klasse teilnehmen!
 "\n(Quelle: https://zeitleo.de/weltretter-mission/)\n\n\nWichtige Termine\
 nBeginn des Wettbewerbs: 23. September 2025\nEinsendeschluss für die Proj
 ektdokumentation: 15.Februar 2026\nJurysitzung: vorauss. März 2026\nPreis
 verleihung: 23. April 2026\nAusführliche Informationen zum Wettbewerb sow
 ie ein Infovideo erhalten Sie auf der Website:\nhttps://zeitleo.de/weltret
 ter-mission/ \n\n\n(Hinweis: Externes Angebot eines privaten Anbieters –
  Die Behörde hat durch die Nennung keinen Einfluss auf Inhalte und zieht 
 daraus keine Vorteile.)\n\n
CATEGORIES:Wettbewerb
LOCATION:https://zeitleo.de/weltretter-mission/
END:VEVENT
BEGIN:VTIMEZONE
TZID:Europe/Berlin
X-LIC-LOCATION:Europe/Berlin
BEGIN:DAYLIGHT
DTSTART:20260329T030000
TZOFFSETFROM:+0100
TZOFFSETTO:+0200
TZNAME:CEST
END:DAYLIGHT
END:VTIMEZONE
END:VCALENDAR