BEGIN:VCALENDAR
VERSION:2.0
PRODID:-//wp-events-plugin.com//7.2.3.1//EN
TZID:Europe/Berlin
X-WR-TIMEZONE:Europe/Berlin
BEGIN:VEVENT
UID:17@infoportal.lernen.hamburg
DTSTART;TZID=Europe/Berlin:20230327T190000
DTEND;TZID=Europe/Berlin:20230327T210000
DTSTAMP:20230216T121647Z
URL:https://infoportal.lernen.hamburg/events/bildung-weiter-denken/
SUMMARY:Bildung weiter denken
DESCRIPTION:2. Salon für Zukunftsperspektiven\n\nEINLADUNGSLINK\n\nInforma
 tionen auf der Webseite.\n\nWir freuen uns über Ihr Interesse und bitten 
 um eine ANMELDUNG bis zum 21.03.2023.\n\n&nbsp\;
END:VEVENT
BEGIN:VTIMEZONE
TZID:Europe/Berlin
X-LIC-LOCATION:Europe/Berlin
BEGIN:DAYLIGHT
DTSTART:20230326T030000
TZOFFSETFROM:+0100
TZOFFSETTO:+0200
TZNAME:CEST
END:DAYLIGHT
END:VTIMEZONE
END:VCALENDAR