BEGIN:VCALENDAR
VERSION:2.0
PRODID:-//wp-events-plugin.com//7.2.3.1//EN
TZID:Europe/Berlin
X-WR-TIMEZONE:Europe/Berlin
BEGIN:VEVENT
UID:49@infoportal.lernen.hamburg
DTSTART;TZID=Europe/Berlin;VALUE=DATE:20231108
DTEND;TZID=Europe/Berlin;VALUE=DATE:20231109
DTSTAMP:20231011T113245Z
URL:https://infoportal.lernen.hamburg/events/aric-school-days/
SUMMARY:ARIC School Days
DESCRIPTION:Neben der Vorstellung aktueller Entwicklungen im Bereich Künst
 liche Intelligenz möchten wir auch die Auswirkungen dieser für den Bildu
 ngsbereich diskutieren.\n\nPro Schule können vier Personen an der Veranst
 altung\, die ca. 90 Minuten dauert\, teilnehmen. Die Anmeldung bitte in fo
 lgendem Link vornehmen:\nhttps://xoyondo.com/dp/2eeUmdNuaR6GZNG\n\nEine au
 sführliche Einladung wurde am 11.10.2023 an alle Hamburger Schulen versen
 det.
CATEGORIES:Unterricht
LOCATION:Artificial Intelligence Center Hamburg (ARIC)\, Van-der-Smissen-St
 raße 9\, Hamburg\, 22 767\, Deutschland
X-APPLE-STRUCTURED-LOCATION;VALUE=URI;X-ADDRESS=Van-der-Smissen-Straße 9\,
  Hamburg\, 22 767\, Deutschland;X-APPLE-RADIUS=100;X-TITLE=Artificial Inte
 lligence Center Hamburg (ARIC):geo:0,0
END:VEVENT
BEGIN:VTIMEZONE
TZID:Europe/Berlin
X-LIC-LOCATION:Europe/Berlin
BEGIN:STANDARD
DTSTART:20231029T020000
TZOFFSETFROM:+0200
TZOFFSETTO:+0100
TZNAME:CET
END:STANDARD
END:VTIMEZONE
END:VCALENDAR