BEGIN:VCALENDAR
VERSION:2.0
PRODID:-//wp-events-plugin.com//7.2.3.1//EN
TZID:Europe/Berlin
X-WR-TIMEZONE:Europe/Berlin
BEGIN:VEVENT
UID:111@infoportal.lernen.hamburg
DTSTART;TZID=Europe/Berlin:20260210T160000
DTEND;TZID=Europe/Berlin:20260210T170000
DTSTAMP:20260120T112859Z
URL:https://infoportal.lernen.hamburg/events/aric-community-of-practice-co
 p-ki-schule-am-donnerstag-den-10-februar-2026-digital-von-16-00-bis-17-00-
 uhr/
SUMMARY:ARIC Community of Practice (CoP) "KI & Schule" digital von 16.00 bi
 s 17.00 Uhr\, 10.02.26
DESCRIPTION:Liebe Kolleg:innen\,\n\ngemeinsam mit dem Artificial Intelligen
 ce Center Hamburg (ARIC) und dem Referat für "pädagogische Fragen der 
 Digitalisierung" der BSFB können Hamburger Lehrkräfte im Rahmen der ARIC
  Communities of Practice (CoP) über den Einsatz von KI in der Schule nac
 hdenken und sich austauschen. Gemeinsam werden innovative Unterrichtssetti
 ngs mit KI diskutiert\, erprobt und reflektiert.\n\nCop-Termine im ersten 
 Halbjahr 2026:\n\n 	Dienstag\, 10.02.2026\n 	Donnerstag\, 09.04.2026\n 	Do
 nnerstag\, 28.05.2026\n 	Dienstag\, 30.6.2026\n\nHier geht es zu mehr Info
 rmationen und zur Anmeldung!
LOCATION:https://infoportal.lernen.hamburg/beitrag/unterricht/aric-cop-ki-s
 chule-komm-vernetze-dich/
END:VEVENT
BEGIN:VTIMEZONE
TZID:Europe/Berlin
X-LIC-LOCATION:Europe/Berlin
BEGIN:STANDARD
DTSTART:20251026T020000
TZOFFSETFROM:+0200
TZOFFSETTO:+0100
TZNAME:CET
END:STANDARD
END:VTIMEZONE
END:VCALENDAR