BEGIN:VCALENDAR
VERSION:2.0
PRODID:-//wp-events-plugin.com//7.2.3.1//EN
TZID:Europe/Berlin
X-WR-TIMEZONE:Europe/Berlin
BEGIN:VEVENT
UID:46@infoportal.lernen.hamburg
DTSTART;TZID=Europe/Berlin;VALUE=DATE:20231115
DTEND;TZID=Europe/Berlin;VALUE=DATE:20231116
DTSTAMP:20230922T132555Z
URL:https://infoportal.lernen.hamburg/events/ard-jugendmedientag-2/
SUMMARY:ARD JUGENDMEDIENTAG
DESCRIPTION:Zum 5. Mal findet der ARD-Jugendmedientag statt - in diesem Jah
 r zum Thema KI. Der NDR ist wie jedes Jahr dabei und fördert gemeinsam mi
 t allen ARD Landesrundfunkanstalten praxisorientiert die Medienkompetenz v
 on Schülerinnen und Schülern ab der achten Klasse. Weitere Informationen
  gibt es im LINK.
END:VEVENT
BEGIN:VTIMEZONE
TZID:Europe/Berlin
X-LIC-LOCATION:Europe/Berlin
BEGIN:STANDARD
DTSTART:20231029T020000
TZOFFSETFROM:+0200
TZOFFSETTO:+0100
TZNAME:CET
END:STANDARD
END:VTIMEZONE
END:VCALENDAR