BEGIN:VCALENDAR
VERSION:2.0
PRODID:-//wp-events-plugin.com//7.2.3.1//EN
TZID:Europe/Berlin
X-WR-TIMEZONE:Europe/Berlin
BEGIN:VEVENT
UID:134@infoportal.lernen.hamburg
DTSTART;TZID=Europe/Berlin:20260515T000000
DTEND;TZID=Europe/Berlin:20260515T235900
DTSTAMP:20260423T123704Z
URL:https://infoportal.lernen.hamburg/events/anmeldeschluss-code-week-netz
 werktreffen-fuer-lehrkraefte-2026-kassel/
SUMMARY:Anmeldeschluss: Code Week Netzwerktreffen für Lehrkräfte 2026 (Ka
 ssel)
DESCRIPTION:Die Code Week Germany lädt am 19. und 20. Juni 2026 interessie
 rte Lehrkräfte nach Kassel ein. Dich erwartet ein bundesweites Netzwerktr
 effen mit Mitmachstationen\, Barcamp und Impulsen für den kreativen Einsa
 tz digitaler Technologien im Unterricht. Eine Anmeldung ist bis zum 15. Ma
 i 2026 möglich.\n\nHier erfährst du mehr über die Hintergründe\, Teiln
 ahmebedingungen und das Programm:\nhttps://infoportal.lernen.hamburg/beitr
 ag/netzwerke/code-week-netzwerktreffen-fuer-lehrkraefte/\n\n(Hinweis: Exte
 rnes Angebot eines privaten Anbieters – Die Behörde hat durch die Nennu
 ng keinen Einfluss auf Inhalte und zieht daraus keine Vorteile.)
CATEGORIES:Fortbildung,Schulentwicklung,Vernetzung
LOCATION:Future Space Kassel\, Wilhelmsstraße 2\, Kassel\, Hessen\, 34117\
 , Deutschland
X-APPLE-STRUCTURED-LOCATION;VALUE=URI;X-ADDRESS=Wilhelmsstraße 2\, Kassel\
 , Hessen\, 34117\, Deutschland;X-APPLE-RADIUS=100;X-TITLE=Future Space Kas
 sel:geo:0,0
END:VEVENT
BEGIN:VTIMEZONE
TZID:Europe/Berlin
X-LIC-LOCATION:Europe/Berlin
BEGIN:DAYLIGHT
DTSTART:20260329T030000
TZOFFSETFROM:+0100
TZOFFSETTO:+0200
TZNAME:CEST
END:DAYLIGHT
END:VTIMEZONE
END:VCALENDAR