BEGIN:VCALENDAR
VERSION:2.0
PRODID:-//wp-events-plugin.com//7.2.3.1//EN
TZID:Europe/Berlin
X-WR-TIMEZONE:Europe/Berlin
BEGIN:VEVENT
UID:22@infoportal.lernen.hamburg
DTSTART;TZID=Europe/Berlin;VALUE=DATE:20230926
DTEND;TZID=Europe/Berlin;VALUE=DATE:20230930
DTSTAMP:20230224T131443Z
URL:https://infoportal.lernen.hamburg/events/57-bak-seminartag-diversity-t
 rifft-digitalitaet/
SUMMARY:57.bak Seminartag: Diversity trifft Digitalität
DESCRIPTION:Die Fachtagung zielt darauf ab\, sich gemeinsam den vielfältig
 en Chancen und Fragen zu stellen\, welche durch Digitalisierung und Di
 versity innerhalb der Institution Schule entstehen.
END:VEVENT
BEGIN:VTIMEZONE
TZID:Europe/Berlin
X-LIC-LOCATION:Europe/Berlin
BEGIN:DAYLIGHT
DTSTART:20230326T030000
TZOFFSETFROM:+0100
TZOFFSETTO:+0200
TZNAME:CEST
END:DAYLIGHT
END:VTIMEZONE
END:VCALENDAR